BEGIN:VCALENDAR
VERSION:2.0
PRODID:-//Essence de l&#039;être - ECPv6.7.1//NONSGML v1.0//EN
CALSCALE:GREGORIAN
METHOD:PUBLISH
X-ORIGINAL-URL:http://essence-de-l-etre.com
X-WR-CALDESC:Évènements pour Essence de l&#039;être
REFRESH-INTERVAL;VALUE=DURATION:PT1H
X-Robots-Tag:noindex
X-PUBLISHED-TTL:PT1H
BEGIN:VTIMEZONE
TZID:Europe/Paris
BEGIN:DAYLIGHT
TZOFFSETFROM:+0100
TZOFFSETTO:+0200
TZNAME:CEST
DTSTART:20200329T010000
END:DAYLIGHT
BEGIN:STANDARD
TZOFFSETFROM:+0200
TZOFFSETTO:+0100
TZNAME:CET
DTSTART:20201025T010000
END:STANDARD
END:VTIMEZONE
BEGIN:VEVENT
DTSTART;TZID=Europe/Paris:20201101T093000
DTEND;TZID=Europe/Paris:20201101T180000
DTSTAMP:20260424T020526
CREATED:20200911T220821Z
LAST-MODIFIED:20200911T220821Z
UID:686-1604223000-1604253600@essence-de-l-etre.com
SUMMARY:Journée de formation à la Flamme Rose de l'Amour Cosmique
DESCRIPTION:Apprenez à redécouvrir les capacités illimitées que vous avez en vous et manifestées les autour de vous.\n\nNe vous êtes vous jamais dit : « je n’arrive plus ou pas à ouvrir mon coeur\, j’ai été trahi\, je ne pardonnerai jamais\, qu’est ce que l’amour\, je ne ressens pas\, je ne peux plus aimer\, mon coeur me fait souffrir\, je me sens seul(e)… » Toutes ces phrases sont vos propres limitations inscrites dans votre coeur.\n \nEt si je vous disais que si vous vous voyez réellement tel que vous êtes\, vous prendrez conscience que vous êtes un Être sans aucune limitation\, que vous êtes créateur et manifesteur de votre intérieur et de votre environnement à chaque instant.\n \nCette Flamme Rose va vous faire vous reconnecter à l’Amour Universelle qui sommeil en vous et qui est autour de vous\, à l’Être véritable que vous êtes\, au delà de vos croyances\, de vos schémas\, de vos projections qui vous empêcheraient d’avancer sur le chemin de votre coeur. Ré-ouvrez l’accès à l’Amour afin de créer dans la matière ce qui vous tiens à coeur dans tous les secteurs de votre vie. Apprenez à utiliser cette Flamme et envoyez cette énergie de cohérence dans vos parties blessées afin de pacifier vos blessures du coeur. \nLa troisième des Flammes Sacrées est la Flamme Rose\, c’est la Flamme de l’Amour Cosmique et de la cohésion de toute énergie\, elle est l’énergie Une qui engendre la création dans la matière. . \nIl existe 7 énergies de base contenu en vous que vous êtes venus maitriser et manifester : \nLa Flamme Bleu de Volonté Divine \nLa Flamme Jaune de Sagesse et d’Illumination \nLa Flamme Rose d’Amour Cosmique \nLa Flamme Blanche d’Ascension et de Purification \nLa Flamme Verte de Guérison et de Manifestation \nLa Flamme Rubis Dorée de Résurrection \nLa Flamme Violette de Transmutation\n \nVenez redécouvrir votre Essence et votre plein potentiel à travers les flammes et les rayons sacrés. \n \n  \nRejoignez ce merveilleux stage en vous inscrivant ici !
URL:http://essence-de-l-etre.com/event/journee-de-formation-a-la-flamme-rose-de-l-amour-cosmique/
LOCATION:Formation en ligne\, avec suivi durant la formation de chaque personne
ATTACH;FMTTYPE=image/png:http://essence-de-l-etre.com/wp-content/uploads/2020/09/Flamme-ROse-e1599859233138.png
END:VEVENT
END:VCALENDAR