BEGIN:VCALENDAR
VERSION:2.0
PRODID:-//Essence de l&#039;être - ECPv6.7.1//NONSGML v1.0//EN
CALSCALE:GREGORIAN
METHOD:PUBLISH
X-WR-CALNAME:Essence de l&#039;être
X-ORIGINAL-URL:http://essence-de-l-etre.com
X-WR-CALDESC:Évènements pour Essence de l&#039;être
REFRESH-INTERVAL;VALUE=DURATION:PT1H
X-Robots-Tag:noindex
X-PUBLISHED-TTL:PT1H
BEGIN:VTIMEZONE
TZID:Europe/Paris
BEGIN:DAYLIGHT
TZOFFSETFROM:+0100
TZOFFSETTO:+0200
TZNAME:CEST
DTSTART:20200329T010000
END:DAYLIGHT
BEGIN:STANDARD
TZOFFSETFROM:+0200
TZOFFSETTO:+0100
TZNAME:CET
DTSTART:20201025T010000
END:STANDARD
END:VTIMEZONE
BEGIN:VEVENT
DTSTART;TZID=Europe/Paris:20201004T093000
DTEND;TZID=Europe/Paris:20201004T180000
DTSTAMP:20260424T031905
CREATED:20200911T220016Z
LAST-MODIFIED:20200911T220137Z
UID:684-1601803800-1601834400@essence-de-l-etre.com
SUMMARY:Journée de formation à la Flamme Jaune de la Connaissance Divine
DESCRIPTION:Apprenez à redécouvrir les capacités illimitées que vous avez en vous et manifestées les autour de vous.\n\nNe vous êtes vous jamais dit : « Si seulement j’avais des réponses\, je ne comprends pas ce qui m’arrive\, j’ai le mental qui m’empêche de dormir\, je ne trouve pas de solution\, je n’ai pas la connaissance de… » Toutes ces phrases sont vos propres limitations inscrites.\n \nEt si je vous disais que si vous vous voyez réellement tel que vous êtes\, vous prendrez conscience que vous êtes un Être sans aucune limitation\, que vous êtes créateur et manifesteur de votre intérieur et de votre environnement à chaque instant.\n \nCette Flamme Jaune va vous faire vous reconnecter à la connaissance Universelle qui sommeil en vous et qui est autour de vous\, à l’Être véritable que vous êtes\, au delà de l’histoire humaine\, des voiles de l’illusion\, de vos croyances\, de vos schémas\, de vos projections qui vous empêcheraient d’avancer sur le chemin de votre coeur. Ré-ouvrez l’accès à cette connaissance afin de retrouver la paix du mental et emmenez l’énergie de la Flamme Jaune pousser les portes de la Sagesse Divine dans tous les secteurs de votre vie. \nLa Flamme Jaune est la Flamme de l’illumination et de la sagesse Divine\, de la connaissance « uni-vers-elle » et de la libération du mental. Elle permet également d’aller consulter les dossiers Akashiques. \nIl existe 7 énergies de base contenu en vous que vous êtes venus maitriser et manifester : \nLa Flamme Bleu de Volonté Divine \nLa Flamme Jaune de Sagesse et d’Illumination \nLa Flamme Rose d’Amour Cosmique \nLa Flamme Blanche d’Ascension et de Purification \nLa Flamme Verte de Guérison et de Manifestation \nLa Flamme Rubis Dorée de Résurrection \nLa Flamme Violette de Transmutation\n \nVenez redécouvrir votre Essence et votre plein potentiel à travers les flammes et les rayons sacrés. \n \n  \nRejoignez ce merveilleux stage en vous inscrivant ici !
URL:http://essence-de-l-etre.com/event/journee-de-formation-a-la-flamme-jaune-de-la-connaissance-divine/
LOCATION:Formation en ligne\, avec suivi durant la formation de chaque personne
ATTACH;FMTTYPE=image/png:http://essence-de-l-etre.com/wp-content/uploads/2020/09/Flammes-Jaunes-e1599857677390.png
END:VEVENT
BEGIN:VEVENT
DTSTART;TZID=Europe/Paris:20201009T093000
DTEND;TZID=Europe/Paris:20201009T180000
DTSTAMP:20260424T031905
CREATED:20200911T212857Z
LAST-MODIFIED:20200911T212857Z
UID:679-1602235800-1602266400@essence-de-l-etre.com
SUMMARY:Journée de formation au Clair Ressenti
DESCRIPTION:Apprenez à ressentir l’invisible facilement et développer vos canaux extra-sensoriels.\n\nAvez-vous toujours voulu ressentir et percevoir l’invisible ? Comprendre comment toucher avec vos propres mains ces différents phénomènes et développer votre connaissance de vos corps énergétiques.  \nAlors ce stage est fait pour vous ! \nProgramme du stage ici  \nInscription juste ici 🙂
URL:http://essence-de-l-etre.com/event/journee-de-formation-au-clair-ressenti-3/
LOCATION:Formation en ligne\, avec suivi durant la formation de chaque personne
ATTACH;FMTTYPE=image/jpeg:http://essence-de-l-etre.com/wp-content/uploads/2020/08/Cosmic-energy.jpg
END:VEVENT
BEGIN:VEVENT
DTSTART;VALUE=DATE:20201010
DTEND;VALUE=DATE:20201012
DTSTAMP:20260424T031905
CREATED:20200911T213039Z
LAST-MODIFIED:20200911T213039Z
UID:681-1602288000-1602460799@essence-de-l-etre.com
SUMMARY:Formation Communication avec ses guides
DESCRIPTION:Apprenez à communiquer avec les guides et à ressentir le monde invisible qui nous entoure.\n\nAvez-vous l’impression de vous sentir bloqués dans différents domaines de votre vie tel que : votre vie sentimentale\, votre vie professionnelle ou vos projets ? Avez-vous des questions qui vous travaillent la nuit ? Vous doutez souvent et vous ne savez pas quel choix faire ?  \nEt si vos guides étaient là pour répondre à vos questions très facilement ? Tenteriez-vous l’expérience ? \nVenez rejoindre ce merveilleux stage en vous inscrivant ! \nProgramme du stage ici  \nInscription juste ici 🙂 \nImportant : Ce stage nécessite d’avoir effectué le stage de Clair-ressenti avant\, car nous allons mettre en pratique les outils appris durant cette journée.
URL:http://essence-de-l-etre.com/event/formation-communication-avec-ses-guides-3/
LOCATION:Formation en ligne\, avec suivi durant la formation de chaque personne
ATTACH;FMTTYPE=image/jpeg:http://essence-de-l-etre.com/wp-content/uploads/2018/06/Guardian-Angel_spiritual-1024x724-e1597165665898.jpg
END:VEVENT
END:VCALENDAR