BEGIN:VCALENDAR
VERSION:2.0
PRODID:-//Essence de l&#039;être - ECPv6.7.1//NONSGML v1.0//EN
CALSCALE:GREGORIAN
METHOD:PUBLISH
X-ORIGINAL-URL:http://essence-de-l-etre.com
X-WR-CALDESC:Évènements pour Essence de l&#039;être
REFRESH-INTERVAL;VALUE=DURATION:PT1H
X-Robots-Tag:noindex
X-PUBLISHED-TTL:PT1H
BEGIN:VTIMEZONE
TZID:Europe/Paris
BEGIN:DAYLIGHT
TZOFFSETFROM:+0100
TZOFFSETTO:+0200
TZNAME:CEST
DTSTART:20200329T010000
END:DAYLIGHT
BEGIN:STANDARD
TZOFFSETFROM:+0200
TZOFFSETTO:+0100
TZNAME:CET
DTSTART:20201025T010000
END:STANDARD
END:VTIMEZONE
BEGIN:VEVENT
DTSTART;TZID=Europe/Paris:20200925T093000
DTEND;TZID=Europe/Paris:20200927T180000
DTSTAMP:20260424T062249
CREATED:20200813T152119Z
LAST-MODIFIED:20200910T130335Z
UID:634-1601026200-1601229600@essence-de-l-etre.com
SUMMARY:Formation Géobiologie de l'habitat
DESCRIPTION:Apprenez à harmoniser votre lieu de vie avec cette formation en Géobiologie de l’habitat.\n\nLa géobiologie de l’habitat sert à harmoniser les différentes énergies subtiles résidant dans votre habitation\, jardin\, entreprise et salle de soins. Cette formation permet de prendre conscience et créer une harmonie et une synergie entre les différents règnes du vivant qui nous entourent. (Végétal\, animal\, minéral\, humain\, divin…) \nCette harmonisation produit souvent des résultats spectaculaires et immédiats.  \nEt si votre envie de retrouver cette harmonie entre tous les règnes du vivant de votre lieu de vie résonne en vous\, venez nous rejoindre dans cette merveilleuse formation !  \nA la fin de cette formation\, chaque personne aura Harmonisé son lieu de vie. Cette Harmonisation pourra se ressentir au fur et à mesure des journées de formation\n \nPour le programme c’est ici \nPour s’inscrire c’est ici \nImportant : Ce stage nécessite d’avoir effectué le stage de Clair-ressenti avant\, car nous allons mettre en pratique en géobiologie les outils appris durant cette journée.
URL:http://essence-de-l-etre.com/event/formation-geobiologie-de-lhabitat/
LOCATION:Formation en ligne\, avec suivi durant la formation de chaque personne
ATTACH;FMTTYPE=image/jpeg:http://essence-de-l-etre.com/wp-content/uploads/2019/09/Temple-zen.jpg
END:VEVENT
END:VCALENDAR